BEGIN:VCALENDAR
VERSION:2.0
PRODID:spatie/icalendar-generator
NAME:Baby Carrier Industry Alliance
X-WR-CALNAME:Baby Carrier Industry Alliance
DESCRIPTION:Events for Baby Carrier Industry Alliance
X-WR-CALDESC:Events for Baby Carrier Industry Alliance
BEGIN:VEVENT
UID:28598-1794934800-1794938400@babycarrierindustryalliance.org
SUMMARY:Babywearing Education Committee
DESCRIPTION:
URL:https://babycarrierindustryalliance.org/event/babywearing-education-com
 mittee-november-17-2026/
DTSTART;TZID=America/New_York:20261117T120000
DTEND;TZID=America/New_York:20261117T130000
DTSTAMP;TZID=UTC:20260421T083651
END:VEVENT
END:VCALENDAR